  BEGIN:VCALENDAR
VERSION:2.0
PRODID:-//eventon.com NONSGML v1.0//EN
CALSCALE:GREGORIAN
METHOD:PUBLISH
BEGIN:VEVENT
UID:69ebf4d548cf4
DTSTAMP:20260424T225517Z
DTSTART:20260517T181500Z
DTEND:20260517T194500Z
LOCATION:בא BE הוד השרון הנגר 8 הוד השרון
SUMMARY:מתן לקס מארח חברים בבאבי בר הוד השרון
DESCRIPTION:מתן לקס מארח חברים בבאבי בר הוד השר
 ון – ערב סטנדאפ חד פעמי שלא כדאי לפספס לפ
 י ההופעה המצולמת של מתן לטלוויזיה! 🎤🔥 ב
 יום ראשון ה־17.5 זה קורה! ערב סטנדאפ קורע מצ
 חוק עם מתן לקס\,  שמארח על במה אחת את הסטנד
 פיסטים הכי מצחיקים לערב בלתי צפוי\,  חד\,  
 מלא רגעים שיגרמו[..]\nhttps://standupist.co.il/events/170526
 /
URL:https://standupist.co.il/events/170526/
END:VEVENT
END:VCALENDAR