  BEGIN:VCALENDAR
VERSION:2.0
PRODID:-//eventon.com NONSGML v1.0//EN
CALSCALE:GREGORIAN
METHOD:PUBLISH
BEGIN:VEVENT
UID:69ebf644c6f85
DTSTAMP:20260424T230124Z
DTSTART:20260426T183000Z
DTEND:20260426T200000Z
LOCATION:הודנא בר ת"א אברבנאל 13\,  תל אביב יפו\,  ישראל
SUMMARY:קובי קוריאט בהודנא בר תל אביב
DESCRIPTION:אחד הסטנדאפיסטים הכי חדים\,  חכמים 
 אהובים בישראל במופע סטנדאפ קורע מצחוק\,  
 לי פילטרים ובלי הנחות.קוריאט לוקח את היו
 יום הישראלי\,  העצבים הקטנים והבלגן הגדול
  – ומפרק הכול לצחוק מתגלגל שאי אפשר לעצור
 . זה מופע של תזמון מושלם\,  טקסטים חכמים\,  א
 לתורים מבריקים וקהל שיוצא עם כאבי בטן (מה
 חוק\,  כן). 📍 הונדא תל[..]\nhttps://standupist.co.il/events
 /290326-2/
URL:https://standupist.co.il/events/290326-2/
END:VEVENT
END:VCALENDAR