  BEGIN:VCALENDAR
VERSION:2.0
PRODID:-//eventon.com NONSGML v1.0//EN
CALSCALE:GREGORIAN
METHOD:PUBLISH
BEGIN:VEVENT
UID:69ebf64e4c113
DTSTAMP:20260424T230134Z
DTSTART:20260622T183000Z
DTEND:20260622T200000Z
LOCATION:בא BE הוד השרון הנגר 8 הוד השרון
SUMMARY:בנות עם ביצים בבאבי בר הוד השרון
DESCRIPTION:מופע טריפל סטנדאפ נשי – “בנות עם ב
 יצים” בכיכובן של: מורן אזערי\,  מיכל קירזו
 ן ומירב הרמל שכל אחת מביאה את עולמה האישי 
 והמיוחד. על הפרק: רווקות מאוחרת  דייטים 
 ושלים  נישואים  הורות  סXX גברים  ילדי
 ם ועוד… בואו לקחת רגע מנוחה מהכל ולצחוק ע
 ד כאב בטן. סיבוב הופעות חדש 2026  אל תפספסו 
  עוד לא מכירים את בנות עם ביצים?[..]\nhttps://stand
 upist.co.il/events/270426/
URL:https://standupist.co.il/events/270426/
END:VEVENT
END:VCALENDAR