  BEGIN:VCALENDAR
VERSION:2.0
PRODID:-//eventon.com NONSGML v1.0//EN
CALSCALE:GREGORIAN
METHOD:PUBLISH
BEGIN:VEVENT
UID:69ea1f8dd9f0a
DTSTAMP:20260423T133301Z
DTSTART:20260615T183000Z
DTEND:20260615T194500Z
LOCATION:בא BE הוד השרון הנגר 8 הוד השרון
SUMMARY:שוקי דוד במופע מלא בבאבי בר הוד השרון
DESCRIPTION:לאור הצלחת המופע הקודם והספיישל שכ
 בש את המסך ברשת 13\,  שוקי דוד חוזר אלינו לב
 בי בר החדש בהוד השרון להופעת סטנדאפ מלאה 
 שאסור לכם לפספס!!! מקום גדול יותר עם תפריט 
 חדש! הקומיקאי\,  הסטנדאפיסט והשחקן שוקי דו
 ד מופיע מזה 22 שנה על הבמות ברחבי הארץ עם מ
 טב הסטנדאפיסטים חברים מי שלא[..]\nhttps://standupi
 st.co.il/events/150626/
URL:https://standupist.co.il/events/150626/
END:VEVENT
END:VCALENDAR